BEGIN:VCALENDAR
VERSION:2.0
PRODID:-//CRA-SC - ECPv6.15.15//NONSGML v1.0//EN
CALSCALE:GREGORIAN
METHOD:PUBLISH
X-ORIGINAL-URL:https://crasc.org.br
X-WR-CALDESC:Eventos para CRA-SC
REFRESH-INTERVAL;VALUE=DURATION:PT1H
X-Robots-Tag:noindex
X-PUBLISHED-TTL:PT1H
BEGIN:VTIMEZONE
TZID:America/Sao_Paulo
BEGIN:STANDARD
TZOFFSETFROM:-0300
TZOFFSETTO:-0300
TZNAME:-03
DTSTART:20210101T000000
END:STANDARD
END:VTIMEZONE
BEGIN:VEVENT
DTSTART;TZID=America/Sao_Paulo:20220603T080000
DTEND;TZID=America/Sao_Paulo:20220603T233000
DTSTAMP:20260425T182806
CREATED:20220408T111103Z
LAST-MODIFIED:20220408T111103Z
UID:68024-1654243200-1654299000@crasc.org.br
SUMMARY:ERPA Sul 2022
DESCRIPTION:O Encontro Regional de Profissionais de Administração da região Sul 2022 está confirmado para 03 de junho\, em Foz do Iguaçu\, no Paraná. Com o tema Gestão\, Inovação e Sustentabilidade\, o encontro promovido pelo Conselho Federal de Administração (CFA) e os Conselhos Regionais de Administração (CRA) do Paraná (anfitrião)\, de Santa Catarina e do Rio Grande do Sul vai reunir profissionais dos três estados para discutir o papel da Administração no desenvolvimento de soluções inovadoras para problemas socioambientais. \nJá estão confirmados palestrantes nacionais e internacionais\, que contarão cases de sucesso nas áreas relativas ao tema\, gestores públicos e privados e integrantes da comunidade acadêmica. \nPor questões de prevenção e para ampliar o alcance do conteúdo do evento\, o ERPA Sul ocorrerá de forma híbrida – com participação presencial e online de palestrantes e participantes. No modelo presencial\, os presentes\, além de aproveitar a oportunidade de networking\, serão conduzidos a uma visita técnica à Itaipu Binacional\, usina hidrelétrica líder mundial em produção de energia. \nPALESTRANTES CONFIRMADOS \nUm dos destaques do ERPA Sul está nos nomes selecionados para discutir temas de alto grau de relevância no mercado atualmente. \nEntre eles\, é possível destacar\, já confirmado no painel de Gestão e Inovação\, o palestrante: \nJorge Audy – administrador\, atualmente consultor pela DBServer\, instrutor pela Sputnik\, professor de graduação e MBAs na escola Politécnica e escola de Negócios da PUCRS. Mestre em Gestão da Informação\, autor\, blogueiro\, assíduo organizador\, participante e palestrante em eventos locais\, regionais e nacionais. Certificado PSM e PSPO. \nDiego Ramos – Sócio da Teltec Solutions\, atua também como Diretor da Vertical de Smart Cities – Associação Catarinense de Tecnologia (ACATE)\, Vice-Presidente de Relacionamento – Associação Catarinense de Tecnologia (ACATE)\, Membro da Câmara de Smart Cities – Federação das Indústrias de Santa Catarina ( FIESC ) e Membro do Conselho do Instituto Nacional de Infraestrutura e Construção Inteligente e Sustentável. \nNo Painel de Sustentabilidade\, já está confirmada a participação de: \nMarc Allan Weiss (USA) – presidente e CEO da Global Urban Development (GUD)\, uma organização internacional de políticas e rede profissional de mais de 600 líderes e especialistas em 60 países. Também atua como presidente da Metropolitan Economic Strategy LLC\, editor executivo da GUD Magazine e presidente da Sustainable Economic Development Strategies LLC. Além disso\, é membro dos Comitês Diretores da Campanha Urbana Mundial da ONU-Habitat e do Programa de Melhores Práticas e Liderança Local da ONU-Habitat e atua como Secretário do Conselho de Administração da Coalizão Global da IHC para Moradia Inclusiva e Cidades Sustentáveis. \nProfª Lídia Salinas (Paraguay) – graduada em Administração (FCE-UNA) e mestra em Gestão Ambiental. É distinta graduada do curso de Pós-Graduação em Didática Universitária (FCE UNA) e possui especialização em Avaliação e Auditoria Ambiental (UNA). Atua como professora de graduação nas profissões de Ética e Valores da Profissão nas carreiras de Administração e Contabilidade Pública da FCE UNA. Autora de pesquisas publicadas nacional e internacionalmente. São mais de 25 atividades de Extensão Universitária realizadas com alunos\, além de conferências de nível nacional e internacional. Suas áreas de interesse são Meio Ambiente\, Administração e Ética. \nFabrício Baron Mussi (Brasil) – gestor de contratos no departamento de Reservatório e Áreas Protegidas da Itaipu Binacional. É mestre em Administração pela UFPR e doutor em administração pela PUCPR\, com interesse nas áreas de sustentabilidade\, cooperação\, economia comportamental\, experimentos e metodologia de pesquisa. \nO Painel Lições da Pandemia\, um tema de grande interesse atual\, traz personalidades nacionais e internacionais\, como: \nRosa Maria Jerônymo Lima (Brasil) – Secretária de Saúde de Foz do Iguaçu\, possui graduação em Psicologia pela Universidade Estadual da Paraíba e especialização em Administração em Saúde Pública pela Faculdade de Ensino Superior Marechal Cândido Rondon. Possui experiência na área de Saúde Coletiva\, com ênfase em Medicina Preventiva. \nDaniel Rebodero (Uruguai) – Administrador e consultor de empresas pela Southern Lands\, atua como Assessor da Associação de Dirigentes de Marketing do Uruguay e foi presidente da Associação Técnica em Administração do Uruguai – ATUADU. \nOscar Malfitano Cayuela (Argentina) – Palestrante Internacional sobre Gestão Disruptiva\, é Presidente de ONACE (Observatorio de Neurociencias Aplicadas em Ciências Económicas) e Coautor e Coordenador do primeiro livro mundial sobre “Neuromarketing”\, Criador da NACE o novo gerente. \nPROGRAMAÇÃO OFICIAL: \n8h00 às 08h30 \nAbertura Oficial – Presidentes CRA-PR\, CRA-RS e CRA-SC \n08h30 às 10h00 \nPainel de abertura – Francisco Lacerda Brasileiro (PREFEITO DE FOZ DO IGUAÇU) e Adm. Mauro Kreuz (PRESIDENTE DO CFA) \n10h00 às 10h30\nCoffee-Break \n10h30 às 12h00\nPainel Gestão e Inovação – Adm. Jorge Audy (PUC-RS) e Diego Ramos (STARTUP) \n12h00 às 13h30\nAlmoço \n13h30 às 14h00\nApresentação de trabalhos: Somente ONLINE! \n14h00 às 15h30\nPainel Sustentabilidade – Marc Allan Weiss (USA)\, Lídia Rosa Saldivar Salinas (OLA) e Fabricio Baron Mussi (ITAIPU) \n15h30 às 17h45\nPainel Lições da Pandemia – Rosa Maria Jerônymo Lima (SEC. DE SAÚDE DE FOZ DO IGUAÇU)\, Daniel Reboredo (URUGUAI) e Oscar Malfitano Cayuela (ARGENTINA) \n17h45 às 18h15\nNetwork / Coffee-Break \n18h15 às 19h30\nPalestra de Encerramento – Adm. Mauro Kreuz (PRESIDENTE DO CFA) \n19h30 às 00h00\nCoquetel de Encerramento \nINGRESSOS: \nDisponíveis no site do evento: https://www.erpasul2022.com.br/ \n 
URL:https://crasc.org.br/evento/erpa-sul-2022/
CATEGORIES:CRA-SC
ATTACH;FMTTYPE=image/jpeg:https://crasc.org.br/wp-content/uploads/2022/04/WhatsApp-Image-2022-03-15-at-14.39.20.jpeg
END:VEVENT
END:VCALENDAR