BEGIN:VCALENDAR
VERSION:2.0
PRODID:-//CRA-SC - ECPv6.15.15//NONSGML v1.0//EN
CALSCALE:GREGORIAN
METHOD:PUBLISH
X-ORIGINAL-URL:https://crasc.org.br
X-WR-CALDESC:Eventos para CRA-SC
REFRESH-INTERVAL;VALUE=DURATION:PT1H
X-Robots-Tag:noindex
X-PUBLISHED-TTL:PT1H
BEGIN:VTIMEZONE
TZID:America/Sao_Paulo
BEGIN:STANDARD
TZOFFSETFROM:-0300
TZOFFSETTO:-0300
TZNAME:-03
DTSTART:20210101T000000
END:STANDARD
END:VTIMEZONE
BEGIN:VEVENT
DTSTART;TZID=America/Sao_Paulo:20220706T090000
DTEND;TZID=America/Sao_Paulo:20220706T180000
DTSTAMP:20260425T164320
CREATED:20220622T173955Z
LAST-MODIFIED:20220622T173955Z
UID:68592-1657098000-1657130400@crasc.org.br
SUMMARY:Workshop Gestão Pública: Índice IGM-CFA.
DESCRIPTION:O Conselho Regional de Administração de SC\, por meio da Câmara de Administração Pública\, em conjunto com Conselho Federal de Administração promovem o evento: WORKSHOP GESTÃO PÚBLICA: ÍNDICE IGM-CFA. \nO CFA dispõe de uma ótima ferramenta de gestão\, voltada para o município\, que é o Índice CFA de Gestão Municipal (IGM-CFA). A ferramenta em referência auxilia o gestor municipal a realizar um diagnóstico em diversas áreas do município\, permitindo um melhor planejamento e priorização das políticas públicas municipais. \nO uso dessa ferramenta por profissionais de Administração constitui-se em um poderoso instrumento de inserção profissional na esfera pública\, seja na atuação como assessores técnicos ou como consultores municipais.
URL:https://crasc.org.br/evento/workshop-gestao-publica-indice-igm-cfa/
CATEGORIES:CRA-SC
ATTACH;FMTTYPE=image/png:https://crasc.org.br/wp-content/uploads/2022/06/FB_Post_Webinar.png
END:VEVENT
END:VCALENDAR