BEGIN:VCALENDAR
VERSION:2.0
PRODID:-//CRA-SC - ECPv6.15.15//NONSGML v1.0//EN
CALSCALE:GREGORIAN
METHOD:PUBLISH
X-ORIGINAL-URL:https://crasc.org.br
X-WR-CALDESC:Eventos para CRA-SC
REFRESH-INTERVAL;VALUE=DURATION:PT1H
X-Robots-Tag:noindex
X-PUBLISHED-TTL:PT1H
BEGIN:VTIMEZONE
TZID:America/Sao_Paulo
BEGIN:STANDARD
TZOFFSETFROM:-0300
TZOFFSETTO:-0300
TZNAME:-03
DTSTART:20220101T000000
END:STANDARD
END:VTIMEZONE
BEGIN:VEVENT
DTSTART;TZID=America/Sao_Paulo:20230530T193000
DTEND;TZID=America/Sao_Paulo:20230530T210000
DTSTAMP:20260425T003044
CREATED:20230525T132229Z
LAST-MODIFIED:20230525T132229Z
UID:71056-1685475000-1685480400@crasc.org.br
SUMMARY:Gestão de Valor
DESCRIPTION:? Participe do Talk “Gestão de Valor”: Conheça as empresas inovadoras de Santa Catarina! O evento conta com patrocínio do CRA-SC. \n?️ 30/05\n⏰ 19h30\n? Square SC \n?️ Gabriella Bridi\, jornalista especialista em economia e repórter da NSC TV\, será a mediadora deste evento imperdível! \n? Durante o Talk “Gestão de Valor”\, será abordado: \n1️⃣ Estratégias de inovação para impulsionar seu negócio.\n2️⃣ Como agregar valor aos produtos e serviços oferecidos.\n3️⃣ A importância do networking para empreendedores.\n4️⃣ O papel da gestão eficiente na criação de valor para a empresa. \n? Este evento é destinado a empreendedores\, aspirantes a empreendedores e todos aqueles interessados no mundo dos negócios. Não importa se você já está no mercado ou apenas começando sua jornada empreendedora\, este é o lugar perfeito para aprender\, se inspirar e fazer networking com profissionais do setor. \n? O Talk “Gestão de Valor” é uma realização da NSC e tem o apoio de grandes parceiros: CRA-SC\, Fepese\, CREA-SC\, BRDE\, SEBRAE e Square SC. \n? [INSCRIÇÕES GRATUITAS]: As vagas são limitadas\, portanto\, garanta sua participação agora mesmo! Para se inscrever\, acesse o link abaixo e preencha o formulário de inscrição: http://bit.ly/TalkGestaoDeValor \n? Marque seus amigos empreendedores nos comentários e compartilhe esta oportunidade de aprendizado com sua rede. Juntos\, vamos impulsionar o empreendedorismo e a inovação em Santa Catarina! \n#Empreendedorismo #Inovação #Networking #GestãoDeValor #TalkGestaoDeValor #SantaCatarina
URL:https://crasc.org.br/evento/gestao-de-valor/
CATEGORIES:CRA-SC
ATTACH;FMTTYPE=image/png:https://crasc.org.br/wp-content/uploads/2023/05/GV_feed.png
END:VEVENT
END:VCALENDAR