BEGIN:VCALENDAR
VERSION:2.0
PRODID:-//CRA-SC - ECPv6.15.15//NONSGML v1.0//EN
CALSCALE:GREGORIAN
METHOD:PUBLISH
X-ORIGINAL-URL:https://crasc.org.br
X-WR-CALDESC:Eventos para CRA-SC
REFRESH-INTERVAL;VALUE=DURATION:PT1H
X-Robots-Tag:noindex
X-PUBLISHED-TTL:PT1H
BEGIN:VTIMEZONE
TZID:America/Sao_Paulo
BEGIN:STANDARD
TZOFFSETFROM:-0300
TZOFFSETTO:-0300
TZNAME:-03
DTSTART:20230101T000000
END:STANDARD
END:VTIMEZONE
BEGIN:VEVENT
DTSTART;TZID=America/Sao_Paulo:20240626T173000
DTEND;TZID=America/Sao_Paulo:20240626T190000
DTSTAMP:20260420T033242
CREATED:20240618T172248Z
LAST-MODIFIED:20240618T172248Z
UID:74086-1719423000-1719428400@crasc.org.br
SUMMARY:Live - CRA Jovem
DESCRIPTION:O malabarismo de administrar os riscos e incertezas em tempos de crise
URL:https://crasc.org.br/evento/live-cra-jovem/
CATEGORIES:CRA-SC
ATTACH;FMTTYPE=image/png:https://crasc.org.br/wp-content/uploads/2024/06/FB_Jovem.png
END:VEVENT
BEGIN:VEVENT
DTSTART;TZID=America/Sao_Paulo:20240627T190000
DTEND;TZID=America/Sao_Paulo:20240627T210000
DTSTAMP:20260420T033242
CREATED:20240618T172006Z
LAST-MODIFIED:20240618T172006Z
UID:74083-1719514800-1719522000@crasc.org.br
SUMMARY:Responsabilidade técnica na prática
DESCRIPTION:Para administradoras de condomínios e síndicos profissionais
URL:https://crasc.org.br/evento/responsabilidade-tecnica-na-pratica/
CATEGORIES:CRA-SC
ATTACH;FMTTYPE=image/png:https://crasc.org.br/wp-content/uploads/2024/06/FB_Cond.png
END:VEVENT
END:VCALENDAR