BEGIN:VCALENDAR
VERSION:2.0
PRODID:-//CRA-SC - ECPv6.15.15//NONSGML v1.0//EN
CALSCALE:GREGORIAN
METHOD:PUBLISH
X-ORIGINAL-URL:https://crasc.org.br
X-WR-CALDESC:Eventos para CRA-SC
REFRESH-INTERVAL;VALUE=DURATION:PT1H
X-Robots-Tag:noindex
X-PUBLISHED-TTL:PT1H
BEGIN:VTIMEZONE
TZID:America/Sao_Paulo
BEGIN:STANDARD
TZOFFSETFROM:-0300
TZOFFSETTO:-0300
TZNAME:-03
DTSTART:20230101T000000
END:STANDARD
END:VTIMEZONE
BEGIN:VEVENT
DTSTART;TZID=America/Sao_Paulo:20241113T190000
DTEND;TZID=America/Sao_Paulo:20241113T200000
DTSTAMP:20260419T191457
CREATED:20241106T133158Z
LAST-MODIFIED:20241106T143440Z
UID:75163-1731524400-1731528000@crasc.org.br
SUMMARY:Perfil de Impacto: Técnicas para Construir sua autoridade no LinkedIn
DESCRIPTION:Vem aí mais uma Live exclusiva no YouTube do CRA-SC! O CRA Jovem apresenta o tema “Perfil de Impacto: Técnicas para Construir sua autoridade no LinkedIn”\n\n\n \n\n\n? A palestra da noite será com o Dr. LinkedIn\, Alessandro Feijó\, publicitário\, com pós-graduação em Marketing e Vendas\, professor de MBA do curso de Marketing Pessoal da PUCRS. \n\n\n \n\n\n✍️ O evento é gratuito e aberto ao público na próxima quarta-feira\, 13 de novembro\, a partir das 19h. Para mais informações e inscrições acesse: https://www.sympla.com.br/evento-online/perfil-de-impacto-tecnicas-para-construir-sua-autoridade-no-linkedin/2722049
URL:https://crasc.org.br/evento/perfil-de-impacto-tecnicas-para-construir-sua-autoridade-no-linkedin/
CATEGORIES:CRA-SC
ATTACH;FMTTYPE=image/png:https://crasc.org.br/wp-content/uploads/2024/11/FB_Jovem.png
END:VEVENT
END:VCALENDAR