BEGIN:VCALENDAR
VERSION:2.0
PRODID:-//CRA-SC - ECPv6.15.15//NONSGML v1.0//EN
CALSCALE:GREGORIAN
METHOD:PUBLISH
X-ORIGINAL-URL:https://crasc.org.br
X-WR-CALDESC:Eventos para CRA-SC
REFRESH-INTERVAL;VALUE=DURATION:PT1H
X-Robots-Tag:noindex
X-PUBLISHED-TTL:PT1H
BEGIN:VTIMEZONE
TZID:America/Sao_Paulo
BEGIN:STANDARD
TZOFFSETFROM:-0300
TZOFFSETTO:-0300
TZNAME:-03
DTSTART:20240101T000000
END:STANDARD
END:VTIMEZONE
BEGIN:VEVENT
DTSTART;TZID=America/Sao_Paulo:20250312T190000
DTEND;TZID=America/Sao_Paulo:20250312T200000
DTSTAMP:20260419T115111
CREATED:20250311T142953Z
LAST-MODIFIED:20250311T143032Z
UID:75997-1741806000-1741809600@crasc.org.br
SUMMARY:Roda de Conversa - Mulheres na ADM
DESCRIPTION:Na quarta-feira\, 12 de março\, o CRA-SC\, por meio do CRA-SC Mulher\, apresenta a Roda de Conversa – Mulheres na ADM\, em comemoração ao mês das mulheres.\n\n\nA Live será apresentada no YouTube do CRA-SC\, a partir das 19h.\n\n\nEstarão presentes: Adm. Carla Merkle\, Adm. Vanilsa Silvano\, Adm. Raphaní Valentim e Ariadne Veiga
URL:https://crasc.org.br/evento/roda-de-conversa-mulheres-na-adm/
CATEGORIES:CRA-SC
ATTACH;FMTTYPE=image/png:https://crasc.org.br/wp-content/uploads/2025/03/Banner_JOVEM.png
END:VEVENT
END:VCALENDAR