BEGIN:VCALENDAR
VERSION:2.0
PRODID:-//CRA-SC - ECPv6.15.15//NONSGML v1.0//EN
CALSCALE:GREGORIAN
METHOD:PUBLISH
X-ORIGINAL-URL:https://crasc.org.br
X-WR-CALDESC:Eventos para CRA-SC
REFRESH-INTERVAL;VALUE=DURATION:PT1H
X-Robots-Tag:noindex
X-PUBLISHED-TTL:PT1H
BEGIN:VTIMEZONE
TZID:America/Sao_Paulo
BEGIN:STANDARD
TZOFFSETFROM:-0300
TZOFFSETTO:-0300
TZNAME:-03
DTSTART:20210101T000000
END:STANDARD
END:VTIMEZONE
BEGIN:VEVENT
DTSTART;TZID=America/Sao_Paulo:20220330T170000
DTEND;TZID=America/Sao_Paulo:20220330T183000
DTSTAMP:20260425T235136
CREATED:20220330T132746Z
LAST-MODIFIED:20220330T132746Z
UID:67902-1648659600-1648665000@crasc.org.br
SUMMARY:ENADE 2022: Desafios e Oportunidades
DESCRIPTION:Nesta quarta-feira será transmitida a Live oficial de lançamento do Encontro Catarinense de Professores e Coordenadores 2022. O evento ao vivo começa às 17h\, no YouTube do CRA-SC. \nA Adm. Mileide Leal Sabino\, coordenadora executiva da Câmara de Formação Profissional do CRA-SC\, e o Adm. Thiago Francisco\, pós-doutor em Administração e especialista em Gestão Estratégica de Pessoas\, debaterão o tema “ENADE 2022: Desafios e Oportunidades”. \nA transmissão será gratuita. Inscreva-se: https://www.youtube.com/channel/UCVdkzO_5Mej1DbJCVTydVeQ
URL:https://crasc.org.br/evento/enade-2022-desafios-e-oportunidades/
CATEGORIES:CRA-SC
ATTACH;FMTTYPE=image/png:https://crasc.org.br/wp-content/uploads/2022/03/FB_Live.png
END:VEVENT
END:VCALENDAR