BEGIN:VCALENDAR
VERSION:2.0
PRODID:-//CRA-SC - ECPv6.15.15//NONSGML v1.0//EN
CALSCALE:GREGORIAN
METHOD:PUBLISH
X-ORIGINAL-URL:https://crasc.org.br
X-WR-CALDESC:Eventos para CRA-SC
REFRESH-INTERVAL;VALUE=DURATION:PT1H
X-Robots-Tag:noindex
X-PUBLISHED-TTL:PT1H
BEGIN:VTIMEZONE
TZID:America/Sao_Paulo
BEGIN:STANDARD
TZOFFSETFROM:-0300
TZOFFSETTO:-0300
TZNAME:-03
DTSTART:20210101T000000
END:STANDARD
END:VTIMEZONE
BEGIN:VEVENT
DTSTART;TZID=America/Sao_Paulo:20220519T190000
DTEND;TZID=America/Sao_Paulo:20220519T203000
DTSTAMP:20260425T220703
CREATED:20220426T135200Z
LAST-MODIFIED:20220426T135200Z
UID:68110-1652986800-1652992200@crasc.org.br
SUMMARY:Como o Seguro ou Plano de Saúde podem preservar seu patrimônio
DESCRIPTION:O Conselho Regional de Administração de SC\, por meio da Câmara de Administração Privada\, promove a live: Como o seguro ou o plano de saúde podem preservar seu Patrimônio\, com a Adm. Eliane Durante\, Administradora pela Universidade de Caxias do Sul\, MBA em Gestão Empresarial pela FGV\, atua no mercado de Seguros e Previdência Privada desde 1999. Fez carreira como Executiva de Multinacionais no Brasil\, Espanha e Portugal\, sempre atuando com soluções aplicadas ao Planejamento e Proteção Patrimonial. Em 2018 fundou a KAVIDA Planejamento Financeiro e de Vida\, empresa que nasce com o propósito de oferecer Longevidade Financeira e Patrimonial para as empresas e suas pessoas.
URL:https://crasc.org.br/evento/como-o-seguro-ou-plano-de-saude-podem-preservar-seu-patrimonio/
CATEGORIES:CRA-SC
ATTACH;FMTTYPE=image/png:https://crasc.org.br/wp-content/uploads/2022/04/FB_Live02.png
END:VEVENT
END:VCALENDAR