BEGIN:VCALENDAR
VERSION:2.0
PRODID:-//CRA-SC - ECPv6.15.15//NONSGML v1.0//EN
CALSCALE:GREGORIAN
METHOD:PUBLISH
X-ORIGINAL-URL:https://crasc.org.br
X-WR-CALDESC:Eventos para CRA-SC
REFRESH-INTERVAL;VALUE=DURATION:PT1H
X-Robots-Tag:noindex
X-PUBLISHED-TTL:PT1H
BEGIN:VTIMEZONE
TZID:America/Sao_Paulo
BEGIN:STANDARD
TZOFFSETFROM:-0300
TZOFFSETTO:-0300
TZNAME:-03
DTSTART:20210101T000000
END:STANDARD
END:VTIMEZONE
BEGIN:VEVENT
DTSTART;TZID=America/Sao_Paulo:20220824T180000
DTEND;TZID=America/Sao_Paulo:20220824T220000
DTSTAMP:20260425T165515
CREATED:20220706T183751Z
LAST-MODIFIED:20220804T164714Z
UID:68747-1661364000-1661378400@crasc.org.br
SUMMARY:Fórum Estadual de Administração 2022
DESCRIPTION:Inscrições no Sympla\, Clique Aqui! \n  \nCanal no Youtube \n 
URL:https://crasc.org.br/evento/forum-estadual-de-administracao-2022/
CATEGORIES:CRA-SC
ATTACH;FMTTYPE=image/png:https://crasc.org.br/wp-content/uploads/2022/08/FB_Palestrante.png
END:VEVENT
END:VCALENDAR