BEGIN:VCALENDAR
VERSION:2.0
PRODID:-//CRA-SC - ECPv6.15.15//NONSGML v1.0//EN
CALSCALE:GREGORIAN
METHOD:PUBLISH
X-ORIGINAL-URL:https://crasc.org.br
X-WR-CALDESC:Eventos para CRA-SC
REFRESH-INTERVAL;VALUE=DURATION:PT1H
X-Robots-Tag:noindex
X-PUBLISHED-TTL:PT1H
BEGIN:VTIMEZONE
TZID:America/Sao_Paulo
BEGIN:STANDARD
TZOFFSETFROM:-0300
TZOFFSETTO:-0300
TZNAME:-03
DTSTART:20220101T000000
END:STANDARD
END:VTIMEZONE
BEGIN:VEVENT
DTSTART;TZID=America/Sao_Paulo:20230615T193000
DTEND;TZID=America/Sao_Paulo:20230615T210000
DTSTAMP:20260425T002504
CREATED:20230606T135719Z
LAST-MODIFIED:20230606T135719Z
UID:71206-1686857400-1686862800@crasc.org.br
SUMMARY:1º Otimiza Spinning - Conhecimento em Movimento
DESCRIPTION:?️ Data: 15 de junho (quinta-feira) \n?Local: Auditório da Unoesc Videira \n⏰ Horário: ás 19h30 \n➡️ Palestra Vida e Propósito com Flavio Tavares\nA busca de significado. Como podemos dar mais significado para tudo aquilo que fazemos.
URL:https://crasc.org.br/evento/1o-otimiza-spinning-conhecimento-em-movimento/
CATEGORIES:CRA-SC
ATTACH;FMTTYPE=image/jpeg:https://crasc.org.br/wp-content/uploads/2023/06/WhatsApp-Image-2023-06-06-at-10.36.12.jpeg
END:VEVENT
END:VCALENDAR