BEGIN:VCALENDAR
VERSION:2.0
PRODID:-//CRA-SC - ECPv6.15.15//NONSGML v1.0//EN
CALSCALE:GREGORIAN
METHOD:PUBLISH
X-ORIGINAL-URL:https://crasc.org.br
X-WR-CALDESC:Eventos para CRA-SC
REFRESH-INTERVAL;VALUE=DURATION:PT1H
X-Robots-Tag:noindex
X-PUBLISHED-TTL:PT1H
BEGIN:VTIMEZONE
TZID:America/Sao_Paulo
BEGIN:STANDARD
TZOFFSETFROM:-0300
TZOFFSETTO:-0300
TZNAME:-03
DTSTART:20220101T000000
END:STANDARD
END:VTIMEZONE
BEGIN:VEVENT
DTSTART;TZID=America/Sao_Paulo:20230705T190000
DTEND;TZID=America/Sao_Paulo:20230705T210000
DTSTAMP:20260424T225311
CREATED:20230703T124606Z
LAST-MODIFIED:20230703T124606Z
UID:71475-1688583600-1688590800@crasc.org.br
SUMMARY:Gestão Pública em Foco
DESCRIPTION:Transparência e Accountability na Gestão Pública.
URL:https://crasc.org.br/evento/gestao-publica-em-foco/
CATEGORIES:CRA-SC
ATTACH;FMTTYPE=image/png:https://crasc.org.br/wp-content/uploads/2023/07/V2.png
END:VEVENT
END:VCALENDAR