BEGIN:VCALENDAR
VERSION:2.0
PRODID:-//CRA-SC - ECPv6.15.15//NONSGML v1.0//EN
CALSCALE:GREGORIAN
METHOD:PUBLISH
X-ORIGINAL-URL:https://crasc.org.br
X-WR-CALDESC:Eventos para CRA-SC
REFRESH-INTERVAL;VALUE=DURATION:PT1H
X-Robots-Tag:noindex
X-PUBLISHED-TTL:PT1H
BEGIN:VTIMEZONE
TZID:America/Sao_Paulo
BEGIN:STANDARD
TZOFFSETFROM:-0300
TZOFFSETTO:-0300
TZNAME:-03
DTSTART:20220101T000000
END:STANDARD
END:VTIMEZONE
BEGIN:VEVENT
DTSTART;TZID=America/Sao_Paulo:20231019T190000
DTEND;TZID=America/Sao_Paulo:20231019T200000
DTSTAMP:20260424T175556
CREATED:20231013T180952Z
LAST-MODIFIED:20231013T180952Z
UID:72011-1697742000-1697745600@crasc.org.br
SUMMARY:Live - Marketing estratégico para negócios locais
DESCRIPTION:O Conselho Regional de Administração de Santa Catarina\, por intermédio de sua Câmara – CRAJovem\, promove a palestra: Marketing Estratégico para Negócios Locais. \nA palestra ocorrerá no dia 19 de outubro de 2023 às 19h00 no formato on-line (canal Youtube). \nO Adm. André Roese será o palestrante da noite. O evento será gratuito e aberto ao público\, tendo como objetivo principal\, levar o tema para estudantes e e profissionais daa área da administração\, assim como para lideranças de empresas e demais membros da sociedade. A ideia é fomentar a troca de conhecimentos e promover a capacitação dos participantes. \nSobre o palestrante: \nAndré é Mestre em Gestão e Tecnologia Ambiental (UFR – Universidade Federal de Rondonópolis). Bacharel em Administração de Empresas (UPF – Universidade de Passo Fundo). Especialista em Agronegócio (UFRGS – Universidade Federal do Rio Grande do Sul). Professor e Consultor de pequenas e médias empresas na área de Gestão\, Planejamento Estratégico\, Marketing e Gestão Comercial.
URL:https://crasc.org.br/evento/live-marketing-estrategico-para-negocios-locais/
CATEGORIES:CRA-SC
ATTACH;FMTTYPE=image/png:https://crasc.org.br/wp-content/uploads/2023/10/FB_Live_Jovem.png
END:VEVENT
END:VCALENDAR