BEGIN:VCALENDAR
VERSION:2.0
PRODID:-//CRA-SC - ECPv6.15.15//NONSGML v1.0//EN
CALSCALE:GREGORIAN
METHOD:PUBLISH
X-ORIGINAL-URL:https://crasc.org.br
X-WR-CALDESC:Eventos para CRA-SC
REFRESH-INTERVAL;VALUE=DURATION:PT1H
X-Robots-Tag:noindex
X-PUBLISHED-TTL:PT1H
BEGIN:VTIMEZONE
TZID:America/Sao_Paulo
BEGIN:STANDARD
TZOFFSETFROM:-0300
TZOFFSETTO:-0300
TZNAME:-03
DTSTART:20220101T000000
END:STANDARD
END:VTIMEZONE
BEGIN:VEVENT
DTSTART;TZID=America/Sao_Paulo:20231116T180000
DTEND;TZID=America/Sao_Paulo:20231116T200000
DTSTAMP:20260424T162631
CREATED:20231106T200257Z
LAST-MODIFIED:20231106T200257Z
UID:72099-1700157600-1700164800@crasc.org.br
SUMMARY:Como viver de renda com investimentos
DESCRIPTION:O CRA-SC\, por meio do CRA-SC Jovem\, promove a palestra “Como viver de renda com investimentos?”. \n\n\n \n\n\nA Adm. Angélica Marcello\, servidora pública na Prefeitura Municipal de Florianópolis e assessora de investimentos na XP\, será a palestrante da noite. \n\n\n \n\n\nO evento será gratuito e aberto ao público\, no dia 16 de novembro\, a partir das 18h\, no canal do Conselho no Youtube.\n\n\n \n\n\n✍️ Garanta sua inscrição: https://www.sympla.com.br/evento-online/live-cra-sc-como-viver-de-renda-com-investimentos/2229485
URL:https://crasc.org.br/evento/como-viver-de-renda-com-investimentos/
CATEGORIES:CRA-SC
ATTACH;FMTTYPE=image/png:https://crasc.org.br/wp-content/uploads/2023/11/FB_Jovem02.png
END:VEVENT
END:VCALENDAR