BEGIN:VCALENDAR
VERSION:2.0
PRODID:-//CRA-SC - ECPv6.15.15//NONSGML v1.0//EN
CALSCALE:GREGORIAN
METHOD:PUBLISH
X-ORIGINAL-URL:https://crasc.org.br
X-WR-CALDESC:Eventos para CRA-SC
REFRESH-INTERVAL;VALUE=DURATION:PT1H
X-Robots-Tag:noindex
X-PUBLISHED-TTL:PT1H
BEGIN:VTIMEZONE
TZID:America/Sao_Paulo
BEGIN:STANDARD
TZOFFSETFROM:-0300
TZOFFSETTO:-0300
TZNAME:-03
DTSTART:20230101T000000
END:STANDARD
END:VTIMEZONE
BEGIN:VEVENT
DTSTART;TZID=America/Sao_Paulo:20240416T190000
DTEND;TZID=America/Sao_Paulo:20240416T200000
DTSTAMP:20260423T064123
CREATED:20240308T201611Z
LAST-MODIFIED:20240308T201611Z
UID:72853-1713294000-1713297600@crasc.org.br
SUMMARY:Direitos Humanos - Integridade no relacionamento com os diversos públicos da cadeia de valor
DESCRIPTION:Integridade no relacionamento com os diversos públicos da cadeia de valor organizacional (stakeholders) \nO Conselho Regional de Administração de Santa Catarina\, por intermédio do seu Núcleo de Integridade e Compliance\, promove\, em parceria com o Compliance Women Committee (CWC)\, a palestra: Direitos Humanos – Integridade no relacionamento com os diversos públicos da cadeia de valor organizacional (stakeholders). \nA palestra ocorrerá no dia 16 de Abril de 2024 às 19h00 no formato on-line no canal do Youtube do CRA-SC.
URL:https://crasc.org.br/evento/direitos-humanos-integridade-no-relacionamento-com-os-diversos-publicos-da-cadeia-de-valor/
CATEGORIES:CRA-SC
ATTACH;FMTTYPE=image/jpeg:https://crasc.org.br/wp-content/uploads/2024/03/WhatsApp-Image-2024-03-08-at-14.11.29.jpeg
END:VEVENT
END:VCALENDAR