BEGIN:VCALENDAR
VERSION:2.0
PRODID:-//CRA-SC - ECPv6.15.15//NONSGML v1.0//EN
CALSCALE:GREGORIAN
METHOD:PUBLISH
X-ORIGINAL-URL:https://crasc.org.br
X-WR-CALDESC:Eventos para CRA-SC
REFRESH-INTERVAL;VALUE=DURATION:PT1H
X-Robots-Tag:noindex
X-PUBLISHED-TTL:PT1H
BEGIN:VTIMEZONE
TZID:America/Sao_Paulo
BEGIN:STANDARD
TZOFFSETFROM:-0300
TZOFFSETTO:-0300
TZNAME:-03
DTSTART:20230101T000000
END:STANDARD
END:VTIMEZONE
BEGIN:VEVENT
DTSTART;TZID=America/Sao_Paulo:20240423T190000
DTEND;TZID=America/Sao_Paulo:20240423T203000
DTSTAMP:20260420T192339
CREATED:20240417T135139Z
LAST-MODIFIED:20240417T135213Z
UID:73231-1713898800-1713904200@crasc.org.br
SUMMARY:Ser um jovem empreendedor no Brasil
DESCRIPTION:A verdade surpreendente que ninguém te contou!
URL:https://crasc.org.br/evento/ser-um-jovem-empreendedor-no-brasil/
CATEGORIES:CRA-SC
ATTACH;FMTTYPE=image/png:https://crasc.org.br/wp-content/uploads/2024/04/FB_Jovem03.png
END:VEVENT
END:VCALENDAR