BEGIN:VCALENDAR
VERSION:2.0
PRODID:-//CRA-SC - ECPv6.15.15//NONSGML v1.0//EN
CALSCALE:GREGORIAN
METHOD:PUBLISH
X-ORIGINAL-URL:https://crasc.org.br
X-WR-CALDESC:Eventos para CRA-SC
REFRESH-INTERVAL;VALUE=DURATION:PT1H
X-Robots-Tag:noindex
X-PUBLISHED-TTL:PT1H
BEGIN:VTIMEZONE
TZID:America/Sao_Paulo
BEGIN:STANDARD
TZOFFSETFROM:-0300
TZOFFSETTO:-0300
TZNAME:-03
DTSTART:20230101T000000
END:STANDARD
END:VTIMEZONE
BEGIN:VEVENT
DTSTART;TZID=America/Sao_Paulo:20240806T190000
DTEND;TZID=America/Sao_Paulo:20240806T200000
DTSTAMP:20260420T015925
CREATED:20240731T140753Z
LAST-MODIFIED:20240731T144834Z
UID:74379-1722970800-1722974400@crasc.org.br
SUMMARY:Sc que dá certo - São José
DESCRIPTION:Evento patrocinado pelo CRA-SC
URL:https://crasc.org.br/evento/sc-que-da-certo-sao-jose-2/
CATEGORIES:CRA-SC
ATTACH;FMTTYPE=image/jpeg:https://crasc.org.br/wp-content/uploads/2024/07/WhatsApp-Image-2024-07-30-at-14.23.16.jpeg
END:VEVENT
END:VCALENDAR