BEGIN:VCALENDAR
VERSION:2.0
PRODID:-//CRA-SC - ECPv6.15.15//NONSGML v1.0//EN
CALSCALE:GREGORIAN
METHOD:PUBLISH
X-ORIGINAL-URL:https://crasc.org.br
X-WR-CALDESC:Eventos para CRA-SC
REFRESH-INTERVAL;VALUE=DURATION:PT1H
X-Robots-Tag:noindex
X-PUBLISHED-TTL:PT1H
BEGIN:VTIMEZONE
TZID:America/Sao_Paulo
BEGIN:STANDARD
TZOFFSETFROM:-0300
TZOFFSETTO:-0300
TZNAME:-03
DTSTART:20230101T000000
END:STANDARD
END:VTIMEZONE
BEGIN:VEVENT
DTSTART;TZID=America/Sao_Paulo:20240924T180000
DTEND;TZID=America/Sao_Paulo:20240924T200000
DTSTAMP:20260420T002258
CREATED:20240918T212955Z
LAST-MODIFIED:20240919T124021Z
UID:74809-1727200800-1727208000@crasc.org.br
SUMMARY:Reunião de Integração CRA-SC Mulher
DESCRIPTION:? INSCRIÇÕES ABERTAS \nVem aí a II reunião de integração do CRA-SC Mulher! O encontro será realizado na sede do Conselho Regional de Administração de SC\, em Florianópolis\, e contará com palestra especial de Ana Lavratti. \n?️ O evento\, gratuito e aberto ao público\, será no dia 24 de setembro\, terça-feira\, a partir das 18h. A ideia é fomentar a troca de conhecimentos e promover a capacitação das participantes. \n❗ Os ingressos são limitados a 50 pessoas.
URL:https://crasc.org.br/evento/reuniao-de-integracao-cra-sc-mulher-2/
CATEGORIES:CRA-SC
ATTACH;FMTTYPE=image/jpeg:https://crasc.org.br/wp-content/uploads/2024/09/WhatsApp-Image-2024-09-18-at-09.06.59.jpeg
END:VEVENT
END:VCALENDAR