BEGIN:VCALENDAR
VERSION:2.0
PRODID:-//CRA-SC - ECPv6.15.15//NONSGML v1.0//EN
CALSCALE:GREGORIAN
METHOD:PUBLISH
X-ORIGINAL-URL:https://crasc.org.br
X-WR-CALDESC:Eventos para CRA-SC
REFRESH-INTERVAL;VALUE=DURATION:PT1H
X-Robots-Tag:noindex
X-PUBLISHED-TTL:PT1H
BEGIN:VTIMEZONE
TZID:America/Sao_Paulo
BEGIN:STANDARD
TZOFFSETFROM:-0300
TZOFFSETTO:-0300
TZNAME:-03
DTSTART:20230101T000000
END:STANDARD
END:VTIMEZONE
BEGIN:VEVENT
DTSTART;TZID=America/Sao_Paulo:20240925T190000
DTEND;TZID=America/Sao_Paulo:20240925T200000
DTSTAMP:20260420T002257
CREATED:20240919T123149Z
LAST-MODIFIED:20240919T123149Z
UID:74818-1727290800-1727294400@crasc.org.br
SUMMARY:Perícia Grafotécnica
DESCRIPTION:Mais uma Oportunidade Para o Profissional de Administração.
URL:https://crasc.org.br/evento/pericia-grafotecnica/
CATEGORIES:CRA-SC
ATTACH;FMTTYPE=image/png:https://crasc.org.br/wp-content/uploads/2024/09/FB_Grafotecnica02.png
END:VEVENT
END:VCALENDAR