BEGIN:VCALENDAR
VERSION:2.0
PRODID:-//CRA-SC - ECPv6.15.15//NONSGML v1.0//EN
CALSCALE:GREGORIAN
METHOD:PUBLISH
X-ORIGINAL-URL:https://crasc.org.br
X-WR-CALDESC:Eventos para CRA-SC
REFRESH-INTERVAL;VALUE=DURATION:PT1H
X-Robots-Tag:noindex
X-PUBLISHED-TTL:PT1H
BEGIN:VTIMEZONE
TZID:America/Sao_Paulo
BEGIN:STANDARD
TZOFFSETFROM:-0300
TZOFFSETTO:-0300
TZNAME:-03
DTSTART:20230101T000000
END:STANDARD
END:VTIMEZONE
BEGIN:VEVENT
DTSTART;TZID=America/Sao_Paulo:20241009T190000
DTEND;TZID=America/Sao_Paulo:20241009T200000
DTSTAMP:20260419T224711
CREATED:20241003T143758Z
LAST-MODIFIED:20241003T143848Z
UID:74903-1728500400-1728504000@crasc.org.br
SUMMARY:Guia para uma Gestão Pública Municipal Eficaz
DESCRIPTION:? O CRA-SC\, por meio da Câmara de Administração Pública\, promove na próxima quarta-feira\, 9 de outubro\, Live sobre o Guia para uma Gestão Pública Municipal Eficaz. \n? O evento irá destrinchar o guia e debater as principais informações sobre a gestão pública dos municípios. O material está disponibilizado gratuitamente a toda população no site do CRA-SC. \n?️ Participarão do debate: a Adm. Jauna Argenta e a Adm. Luciana Silva.
URL:https://crasc.org.br/evento/guia-para-uma-gestao-publica-municipal-eficaz/
CATEGORIES:CRA-SC
ATTACH;FMTTYPE=image/png:https://crasc.org.br/wp-content/uploads/2024/10/FB_CAPUB.png
END:VEVENT
END:VCALENDAR