BEGIN:VCALENDAR
VERSION:2.0
PRODID:-//CRA-SC - ECPv6.15.15//NONSGML v1.0//EN
CALSCALE:GREGORIAN
METHOD:PUBLISH
X-ORIGINAL-URL:https://crasc.org.br
X-WR-CALDESC:Eventos para CRA-SC
REFRESH-INTERVAL;VALUE=DURATION:PT1H
X-Robots-Tag:noindex
X-PUBLISHED-TTL:PT1H
BEGIN:VTIMEZONE
TZID:America/Sao_Paulo
BEGIN:STANDARD
TZOFFSETFROM:-0300
TZOFFSETTO:-0300
TZNAME:-03
DTSTART:20240101T000000
END:STANDARD
END:VTIMEZONE
BEGIN:VEVENT
DTSTART;TZID=America/Sao_Paulo:20250812T190000
DTEND;TZID=America/Sao_Paulo:20250812T203000
DTSTAMP:20260423T060327
CREATED:20250801T110029Z
LAST-MODIFIED:20250801T113911Z
UID:77117-1755025200-1755030600@crasc.org.br
SUMMARY:Como utilizar as ferramentas de GMO para efetividade em uma implementação da LGPD.
DESCRIPTION:CRA-SC APRESENTA: O Conselho Regional de Administração de Santa Catarina (CRA-SC)\, juntamente com o Núcleo de Integridade e compliance\, promovem o painel – Como utilizar as ferramentas de GMO para efetividade em uma implementação da LGPD. \nData e local: 12 de Agosto de 2025. \nNo canal do Youtube do CRA-SC \nO evento será gratuito e aberto ao público\, tendo como objetivo principal\, levar o tema para profissionais e estudantes da área da Administração e membros da sociedade. A ideia é fomentar a troca de conhecimentos e promover a capacitação dos participantes. \nSobre as Painelistas: \n👩‍💼 Mediadora: Débora Fagundes de Oliveira Gonçalves – Administradora | Núcleo de Integridade e Compliance CRA-SC | Certificada HCMP e HCMBOK 🎤 Painelistas: • Michelle Fernandes – Economista\, especialista em Gestão de Pessoas e certificada em HCMBOK\, PCI e Prosci \nNádia Jaqueline dos Santos – Cientista da Computação\, pós-graduada em Gestão Empresarial\, certificada em HCMP e HCMBOK \nINSCRIÇÃO:https://www.sympla.com.br/evento-online/como-utilizar-as-ferramentas-de-gmo-para-efetividade-em-uma-implementacao-da-lgpd/3056861 \nO preenchimento do formulário de inscrição é necessário para você obter o certificado de participação\, com a devida carga horária da cada palestra. \nSolicitamos especial atenção ao correto preenchimento dos dados pois as informações constarão em seu certificado: Preencher com seu nome completo; Promover apenas uma inscrição por pessoa. \nOS CERTIFICADOS SOMENTE SERÃO EMITIDOS AOS QUE EFETUAREM A INSCRIÇÃO ATÉ O TÉRMINO DO EVENTO\, NÃO SENDO POSSÍVEL INSCRIÇÕES E CONFIRMAÇÕES POSTERIORES. \nOs dados fornecidos serão utilizados exclusivamente para fins de inscrição e emissão do certificado\, respeitando a Lei de proteção de dados vigente. \nINSTRUÇÕES PARA INSCRIÇÃO: Adicione 01 (um) ingresso clicando no símbolo (+) e em “continuar”. Apague os dados previamente preenchidos pelo programa e preencha todos os dados solicitados e clique em “finalizar”. Se você ainda não é inscrito\, aproveite para se inscrever em nosso canal e ative o sininho para receber nossos novos vídeos!
URL:https://crasc.org.br/evento/como-utilizar-as-ferramentas-de-gmo-para-efetividade-em-uma-implementacao-da-lgpd/
CATEGORIES:CRA-SC
ATTACH;FMTTYPE=image/png:https://crasc.org.br/wp-content/uploads/2025/08/CRA-SC_-_LIVE_Nucleo_de_Compliance_1-1.png
END:VEVENT
END:VCALENDAR